BEGIN:VCALENDAR
VERSION:2.0
PRODID:-//hacksw/handcal//NONSGML v1.0//EN
BEGIN:VEVENT
DTSTAMP:20220826T140000Z
DTSTART:20220826T140000Z
DTEND:20220826T140000Z
LOCATION:Rathaus Benrath, Benrodestraße 46, Düsseldorf, 40597, Deutschland
SUMMARY:Bezirksvertretung 9
END:VEVENT
END:VCALENDAR
